Back to Build/check report for BioC 3.14 experimental data
ABCDEFGHIJKL[M]NOPQRSTUVWXYZ

This page was generated on 2021-10-16 15:51:46 -0400 (Sat, 16 Oct 2021).

BUILD results for mtbls2 on nebbiolo2

To the developers/maintainers of the mtbls2 package:
Make sure to use the following settings in order to reproduce any error or warning you see on this page.

raw results

Package 247/404HostnameOS / ArchINSTALLBUILDCHECK
mtbls2 1.23.4  (landing page)
Steffen Neumann
Snapshot Date: 2021-10-16 09:30:02 -0400 (Sat, 16 Oct 2021)
git_url: https://git.bioconductor.org/packages/mtbls2
git_branch: master
git_last_commit: 53dd62d
git_last_commit_date: 2021-10-09 17:21:16 -0400 (Sat, 09 Oct 2021)
nebbiolo2Linux (Ubuntu 20.04.2 LTS) / x86_64  OK    OK    WARNINGS  UNNEEDED, same version is already published

Summary

Package: mtbls2
Version: 1.23.4
Command: /home/biocbuild/bbs-3.14-bioc/R/bin/R CMD build --keep-empty-dirs --no-resave-data mtbls2
StartedAt: 2021-10-16 11:28:14 -0400 (Sat, 16 Oct 2021)
EndedAt: 2021-10-16 11:29:13 -0400 (Sat, 16 Oct 2021)
EllapsedTime: 58.3 seconds
RetCode: 0
Status:   OK  
PackageFile: mtbls2_1.23.4.tar.gz
PackageFileSize: 183.1 MiB

Command output

##############################################################################
##############################################################################
###
### Running command:
###
###   /home/biocbuild/bbs-3.14-bioc/R/bin/R CMD build --keep-empty-dirs --no-resave-data mtbls2
###
##############################################################################
##############################################################################


* checking for file ‘mtbls2/DESCRIPTION’ ... OK
* preparing ‘mtbls2’:
* checking DESCRIPTION meta-information ... OK
* checking for LF line-endings in source and make files and shell scripts
* checking for empty or unneeded directories
* looking to see if a ‘data/datalist’ file should be added
* building ‘mtbls2_1.23.4.tar.gz’