Index of /checkResults/devel/data-experiment-LATEST/msPurityData/raw-results

[ICO]NameLast modifiedSizeDescription

[DIR]Parent Directory  -  
[   ]info.dcf29-Nov-2021 08:35 288  
[DIR]nebbiolo2/29-Nov-2021 08:35 -