Back to Build/check report for BioC 3.14 experimental data
ABCDEFGHIJKL[M]NOPQRSTUVWXYZ

This page was generated on 2021-10-16 15:51:46 -0400 (Sat, 16 Oct 2021).

BUILD results for msPurityData on nebbiolo2

To the developers/maintainers of the msPurityData package:
Make sure to use the following settings in order to reproduce any error or warning you see on this page.

raw results

Package 244/404HostnameOS / ArchINSTALLBUILDCHECK
msPurityData 1.21.0  (landing page)
Thomas N. Lawson
Snapshot Date: 2021-10-16 09:30:02 -0400 (Sat, 16 Oct 2021)
git_url: https://git.bioconductor.org/packages/msPurityData
git_branch: master
git_last_commit: 84e35d8
git_last_commit_date: 2021-05-19 11:57:25 -0400 (Wed, 19 May 2021)
nebbiolo2Linux (Ubuntu 20.04.2 LTS) / x86_64  OK    OK    OK  UNNEEDED, same version is already published

Summary

Package: msPurityData
Version: 1.21.0
Command: /home/biocbuild/bbs-3.14-bioc/R/bin/R CMD build --keep-empty-dirs --no-resave-data msPurityData
StartedAt: 2021-10-16 11:28:09 -0400 (Sat, 16 Oct 2021)
EndedAt: 2021-10-16 11:30:00 -0400 (Sat, 16 Oct 2021)
EllapsedTime: 110.7 seconds
RetCode: 0
Status:   OK  
PackageFile: msPurityData_1.21.0.tar.gz
PackageFileSize: 233.5 MiB

Command output

##############################################################################
##############################################################################
###
### Running command:
###
###   /home/biocbuild/bbs-3.14-bioc/R/bin/R CMD build --keep-empty-dirs --no-resave-data msPurityData
###
##############################################################################
##############################################################################


* checking for file ‘msPurityData/DESCRIPTION’ ... OK
* preparing ‘msPurityData’:
* checking DESCRIPTION meta-information ... OK
* checking for LF line-endings in source and make files and shell scripts
* checking for empty or unneeded directories
Omitted ‘LazyData’ from DESCRIPTION
* building ‘msPurityData_1.21.0.tar.gz’