Index of /checkResults/devel/data-experiment-LATEST/mosaicsExample/raw-results/nebbiolo2

[ICO]NameLast modifiedSizeDescription

[DIR]Parent Directory  -  
[TXT]buildsrc-out.txt20-Jan-2022 22:37 836  
[   ]buildsrc-summary.dcf20-Jan-2022 22:37 449  
[TXT]checksrc-out.txt20-Jan-2022 22:37 2.9K 
[   ]checksrc-summary.dcf20-Jan-2022 22:37 479  
[TXT]install-out.txt20-Jan-2022 22:37 916  
[   ]install-summary.dcf20-Jan-2022 22:37 283