![]() | Name | Last modified | Size | Description |
---|---|---|---|---|
![]() | Parent Directory | - | ||
![]() | buildsrc-out.txt | 25-Jan-2023 04:51 | 825 | |
![]() | buildsrc-summary.dcf | 25-Jan-2023 04:51 | 438 | |
![]() | checksrc-out.txt | 25-Jan-2023 04:51 | 2.8K | |
![]() | checksrc-summary.dcf | 25-Jan-2023 04:51 | 436 | |
![]() | install-out.txt | 25-Jan-2023 04:51 | 894 | |
![]() | install-summary.dcf | 25-Jan-2023 04:51 | 272 | |