Index of /checkResults/devel/data-experiment-LATEST/mosaicsExample/raw-results

[ICO]NameLast modifiedSizeDescription

[DIR]Parent Directory  -  
[DIR]nebbiolo2/20-May-2022 03:50 -  
[   ]info.dcf20-May-2022 03:50 283