Back to Build/check report for BioC 3.14 experimental data
ABCDEFGHIJKL[M]NOPQRSTUVWXYZ

This page was generated on 2021-10-23 15:51:47 -0400 (Sat, 23 Oct 2021).

INSTALL results for mosaicsExample on nebbiolo2

To the developers/maintainers of the mosaicsExample package:
Make sure to use the following settings in order to reproduce any error or warning you see on this page.

raw results

Package 237/408HostnameOS / ArchINSTALLBUILDCHECK
mosaicsExample 1.31.0  (landing page)
Dongjun Chung
Snapshot Date: 2021-10-23 09:30:01 -0400 (Sat, 23 Oct 2021)
git_url: https://git.bioconductor.org/packages/mosaicsExample
git_branch: master
git_last_commit: c853d1b
git_last_commit_date: 2021-05-19 11:31:03 -0400 (Wed, 19 May 2021)
nebbiolo2Linux (Ubuntu 20.04.2 LTS) / x86_64  OK    OK    OK  UNNEEDED, same version is already published

Summary

Package: mosaicsExample
Version: 1.31.0
Command: /home/biocbuild/bbs-3.14-bioc/R/bin/R CMD INSTALL mosaicsExample
StartedAt: 2021-10-23 11:00:11 -0400 (Sat, 23 Oct 2021)
EndedAt: 2021-10-23 11:00:14 -0400 (Sat, 23 Oct 2021)
EllapsedTime: 2.2 seconds
RetCode: 0
Status:   OK  

Command output

##############################################################################
##############################################################################
###
### Running command:
###
###   /home/biocbuild/bbs-3.14-bioc/R/bin/R CMD INSTALL mosaicsExample
###
##############################################################################
##############################################################################


* installing to library ‘/home/biocbuild/bbs-3.14-bioc/R/library’
* installing *source* package ‘mosaicsExample’ ...
** using staged installation
** data
** inst
** help
*** installing help indices
** building package indices
** testing if installed package can be loaded from temporary location
** testing if installed package can be loaded from final location
** testing if installed package keeps a record of temporary installation path
* DONE (mosaicsExample)