Back to Build/check report for BioC 3.14 experimental data
ABCDEFGHIJKL[M]NOPQRSTUVWXYZ

This page was generated on 2021-10-23 15:51:47 -0400 (Sat, 23 Oct 2021).

BUILD results for minfiData on nebbiolo2

To the developers/maintainers of the minfiData package:
Make sure to use the following settings in order to reproduce any error or warning you see on this page.

raw results

Package 229/408HostnameOS / ArchINSTALLBUILDCHECK
minfiData 0.39.0  (landing page)
Kasper Daniel Hansen
Snapshot Date: 2021-10-23 09:30:01 -0400 (Sat, 23 Oct 2021)
git_url: https://git.bioconductor.org/packages/minfiData
git_branch: master
git_last_commit: deee5e7
git_last_commit_date: 2021-05-19 11:32:31 -0400 (Wed, 19 May 2021)
nebbiolo2Linux (Ubuntu 20.04.2 LTS) / x86_64  OK    OK    WARNINGS  UNNEEDED, same version is already published

Summary

Package: minfiData
Version: 0.39.0
Command: /home/biocbuild/bbs-3.14-bioc/R/bin/R CMD build --keep-empty-dirs --no-resave-data minfiData
StartedAt: 2021-10-23 11:29:08 -0400 (Sat, 23 Oct 2021)
EndedAt: 2021-10-23 11:29:18 -0400 (Sat, 23 Oct 2021)
EllapsedTime: 9.9 seconds
RetCode: 0
Status:   OK  
PackageFile: minfiData_0.39.0.tar.gz
PackageFileSize: 74.56 MiB

Command output

##############################################################################
##############################################################################
###
### Running command:
###
###   /home/biocbuild/bbs-3.14-bioc/R/bin/R CMD build --keep-empty-dirs --no-resave-data minfiData
###
##############################################################################
##############################################################################


* checking for file ‘minfiData/DESCRIPTION’ ... OK
* preparing ‘minfiData’:
* checking DESCRIPTION meta-information ... OK
* checking for LF line-endings in source and make files and shell scripts
* checking for empty or unneeded directories
  NB: this package now depends on R (>= 3.5.0)
  WARNING: Added dependency on R >= 3.5.0 because serialized objects in
  serialize/load version 3 cannot be read in older versions of R.
  File(s) containing such objects:
    ‘minfiData/data/MsetEx.rda’ ‘minfiData/data/MsetEx.sub.rda’
    ‘minfiData/data/RGsetEx.rda’ ‘minfiData/data/RGsetEx.sub.rda’
* building ‘minfiData_0.39.0.tar.gz’