Back to Build/check report for BioC 3.14 experimental data
ABCDEFGHIJKL[M]NOPQRSTUVWXYZ

This page was generated on 2021-10-21 15:52:03 -0400 (Thu, 21 Oct 2021).

BUILD results for microRNAome on nebbiolo2

To the developers/maintainers of the microRNAome package:
Make sure to use the following settings in order to reproduce any error or warning you see on this page.

raw results

Package 226/406HostnameOS / ArchINSTALLBUILDCHECK
microRNAome 1.15.0  (landing page)
Matthew N. McCall
Snapshot Date: 2021-10-21 09:30:01 -0400 (Thu, 21 Oct 2021)
git_url: https://git.bioconductor.org/packages/microRNAome
git_branch: master
git_last_commit: 928ec65
git_last_commit_date: 2021-05-19 12:01:06 -0400 (Wed, 19 May 2021)
nebbiolo2Linux (Ubuntu 20.04.2 LTS) / x86_64  OK    OK    OK  UNNEEDED, same version is already published

Summary

Package: microRNAome
Version: 1.15.0
Command: /home/biocbuild/bbs-3.14-bioc/R/bin/R CMD build --keep-empty-dirs --no-resave-data microRNAome
StartedAt: 2021-10-21 11:28:26 -0400 (Thu, 21 Oct 2021)
EndedAt: 2021-10-21 11:28:30 -0400 (Thu, 21 Oct 2021)
EllapsedTime: 4.3 seconds
RetCode: 0
Status:   OK  
PackageFile: microRNAome_1.15.0.tar.gz
PackageFileSize: 1.213 MiB

Command output

##############################################################################
##############################################################################
###
### Running command:
###
###   /home/biocbuild/bbs-3.14-bioc/R/bin/R CMD build --keep-empty-dirs --no-resave-data microRNAome
###
##############################################################################
##############################################################################


* checking for file ‘microRNAome/DESCRIPTION’ ... OK
* preparing ‘microRNAome’:
* checking DESCRIPTION meta-information ... OK
* checking for LF line-endings in source and make files and shell scripts
* checking for empty or unneeded directories
* looking to see if a ‘data/datalist’ file should be added
* building ‘microRNAome_1.15.0.tar.gz’