Back to Build/check report for BioC 3.14 experimental data
ABCDEFGHIJKL[M]NOPQRSTUVWXYZ

This page was generated on 2021-10-16 15:51:45 -0400 (Sat, 16 Oct 2021).

All results for package miRcompData

To the developers/maintainers of the miRcompData package:
Make sure to use the following settings in order to reproduce any error or warning you see on this page.

raw results

Package 231/404HostnameOS / ArchINSTALLBUILDCHECK
miRcompData 1.23.0  (landing page)
Matthew N. McCall
Snapshot Date: 2021-10-16 09:30:02 -0400 (Sat, 16 Oct 2021)
git_url: https://git.bioconductor.org/packages/miRcompData
git_branch: master
git_last_commit: a634e65
git_last_commit_date: 2021-05-19 11:53:18 -0400 (Wed, 19 May 2021)
nebbiolo2Linux (Ubuntu 20.04.2 LTS) / x86_64  OK    OK    OK  UNNEEDED, same version is already published