Back to Build/check report for BioC 3.14 experimental data
ABCDEFGHIJKL[M]NOPQRSTUVWXYZ

This page was generated on 2021-10-19 15:52:18 -0400 (Tue, 19 Oct 2021).

BUILD results for mcsurvdata on nebbiolo2

To the developers/maintainers of the mcsurvdata package:
Make sure to use the following settings in order to reproduce any error or warning you see on this page.

raw results

Package 215/404HostnameOS / ArchINSTALLBUILDCHECK
mcsurvdata 1.11.0  (landing page)
Adria Caballe Mestres
Snapshot Date: 2021-10-19 09:30:02 -0400 (Tue, 19 Oct 2021)
git_url: https://git.bioconductor.org/packages/mcsurvdata
git_branch: master
git_last_commit: 0c272a2
git_last_commit_date: 2021-05-19 12:05:42 -0400 (Wed, 19 May 2021)
nebbiolo2Linux (Ubuntu 20.04.2 LTS) / x86_64  OK    OK    OK  UNNEEDED, same version is already published

Summary

Package: mcsurvdata
Version: 1.11.0
Command: /home/biocbuild/bbs-3.14-bioc/R/bin/R CMD build --keep-empty-dirs --no-resave-data mcsurvdata
StartedAt: 2021-10-19 11:26:58 -0400 (Tue, 19 Oct 2021)
EndedAt: 2021-10-19 11:27:27 -0400 (Tue, 19 Oct 2021)
EllapsedTime: 28.2 seconds
RetCode: 0
Status:   OK  
PackageFile: mcsurvdata_1.11.0.tar.gz
PackageFileSize: 229.5 KiB

Command output

##############################################################################
##############################################################################
###
### Running command:
###
###   /home/biocbuild/bbs-3.14-bioc/R/bin/R CMD build --keep-empty-dirs --no-resave-data mcsurvdata
###
##############################################################################
##############################################################################


* checking for file ‘mcsurvdata/DESCRIPTION’ ... OK
* preparing ‘mcsurvdata’:
* checking DESCRIPTION meta-information ... OK
* installing the package to build vignettes
* creating vignettes ... OK
* checking for LF line-endings in source and make files and shell scripts
* checking for empty or unneeded directories
* building ‘mcsurvdata_1.11.0.tar.gz’