Back to Build/check report for BioC 3.14 experimental data
ABCDEFGHIJKL[M]NOPQRSTUVWXYZ

This page was generated on 2021-10-23 15:51:47 -0400 (Sat, 23 Oct 2021).

BUILD results for maqcExpression4plex on nebbiolo2

To the developers/maintainers of the maqcExpression4plex package:
Make sure to use the following settings in order to reproduce any error or warning you see on this page.

raw results

Package 212/408HostnameOS / ArchINSTALLBUILDCHECK
maqcExpression4plex 1.37.0  (landing page)
Benilton Carvalho
Snapshot Date: 2021-10-23 09:30:01 -0400 (Sat, 23 Oct 2021)
git_url: https://git.bioconductor.org/packages/maqcExpression4plex
git_branch: master
git_last_commit: 988ece3
git_last_commit_date: 2021-05-19 11:26:48 -0400 (Wed, 19 May 2021)
nebbiolo2Linux (Ubuntu 20.04.2 LTS) / x86_64  OK    OK    OK  UNNEEDED, same version is already published

Summary

Package: maqcExpression4plex
Version: 1.37.0
Command: /home/biocbuild/bbs-3.14-bioc/R/bin/R CMD build --keep-empty-dirs --no-resave-data maqcExpression4plex
StartedAt: 2021-10-23 11:27:19 -0400 (Sat, 23 Oct 2021)
EndedAt: 2021-10-23 11:27:23 -0400 (Sat, 23 Oct 2021)
EllapsedTime: 4.0 seconds
RetCode: 0
Status:   OK  
PackageFile: maqcExpression4plex_1.37.0.tar.gz
PackageFileSize: 6.578 MiB

Command output

##############################################################################
##############################################################################
###
### Running command:
###
###   /home/biocbuild/bbs-3.14-bioc/R/bin/R CMD build --keep-empty-dirs --no-resave-data maqcExpression4plex
###
##############################################################################
##############################################################################


* checking for file ‘maqcExpression4plex/DESCRIPTION’ ... OK
* preparing ‘maqcExpression4plex’:
* checking DESCRIPTION meta-information ... OK
* checking for LF line-endings in source and make files and shell scripts
* checking for empty or unneeded directories
* building ‘maqcExpression4plex_1.37.0.tar.gz’