Back to Build/check report for BioC 3.14 experimental data
ABCDEFGHIJKL[M]NOPQRSTUVWXYZ

This page was generated on 2021-10-16 15:51:46 -0400 (Sat, 16 Oct 2021).

BUILD results for macrophage on nebbiolo2

To the developers/maintainers of the macrophage package:
Make sure to use the following settings in order to reproduce any error or warning you see on this page.

raw results

Package 207/404HostnameOS / ArchINSTALLBUILDCHECK
macrophage 1.9.0  (landing page)
Michael Love
Snapshot Date: 2021-10-16 09:30:02 -0400 (Sat, 16 Oct 2021)
git_url: https://git.bioconductor.org/packages/macrophage
git_branch: master
git_last_commit: 2ba1fcd
git_last_commit_date: 2021-05-19 12:07:30 -0400 (Wed, 19 May 2021)
nebbiolo2Linux (Ubuntu 20.04.2 LTS) / x86_64  OK    OK    OK  UNNEEDED, same version is already published

Summary

Package: macrophage
Version: 1.9.0
Command: /home/biocbuild/bbs-3.14-bioc/R/bin/R CMD build --keep-empty-dirs --no-resave-data macrophage
StartedAt: 2021-10-16 11:25:39 -0400 (Sat, 16 Oct 2021)
EndedAt: 2021-10-16 11:26:10 -0400 (Sat, 16 Oct 2021)
EllapsedTime: 31.1 seconds
RetCode: 0
Status:   OK  
PackageFile: macrophage_1.9.0.tar.gz
PackageFileSize: 511.4 MiB

Command output

##############################################################################
##############################################################################
###
### Running command:
###
###   /home/biocbuild/bbs-3.14-bioc/R/bin/R CMD build --keep-empty-dirs --no-resave-data macrophage
###
##############################################################################
##############################################################################


* checking for file ‘macrophage/DESCRIPTION’ ... OK
* preparing ‘macrophage’:
* checking DESCRIPTION meta-information ... OK
* installing the package to build vignettes
* creating vignettes ... OK
* checking for LF line-endings in source and make files and shell scripts
* checking for empty or unneeded directories
* looking to see if a ‘data/datalist’ file should be added
* building ‘macrophage_1.9.0.tar.gz’