Back to Build/check report for BioC 3.15 experimental data
ABCDEFGHIJKL[M]NOPQRSTUVWXYZ

This page was generated on 2021-12-05 17:50:12 -0500 (Sun, 05 Dec 2021).

INSTALL results for mAPKLData on nebbiolo2

To the developers/maintainers of the mAPKLData package:
Make sure to use the following settings in order to reproduce any error or warning you see on this page.

raw results

Package 209/404HostnameOS / ArchINSTALLBUILDCHECK
mAPKLData 1.27.0  (landing page)
Argiris Sakellariou
Snapshot Date: 2021-12-05 07:30:02 -0500 (Sun, 05 Dec 2021)
git_url: https://git.bioconductor.org/packages/mAPKLData
git_branch: master
git_last_commit: 130b8ed
git_last_commit_date: 2021-10-26 12:12:11 -0500 (Tue, 26 Oct 2021)
nebbiolo2Linux (Ubuntu 20.04.3 LTS) / x86_64  OK    OK    WARNINGS  UNNEEDED, same version is already published

Summary

Package: mAPKLData
Version: 1.27.0
Command: /home/biocbuild/bbs-3.15-data-experiment/R/bin/R CMD INSTALL mAPKLData
StartedAt: 2021-12-05 13:00:23 -0500 (Sun, 05 Dec 2021)
EndedAt: 2021-12-05 13:00:25 -0500 (Sun, 05 Dec 2021)
EllapsedTime: 1.7 seconds
RetCode: 0
Status:   OK  

Command output

##############################################################################
##############################################################################
###
### Running command:
###
###   /home/biocbuild/bbs-3.15-data-experiment/R/bin/R CMD INSTALL mAPKLData
###
##############################################################################
##############################################################################


* installing to library ‘/home/biocbuild/bbs-3.15-data-experiment/R/library’
* installing *source* package ‘mAPKLData’ ...
** using staged installation
** data
** help
*** installing help indices
** building package indices
** installing vignettes
** testing if installed package can be loaded from temporary location
** testing if installed package can be loaded from final location
** testing if installed package keeps a record of temporary installation path
* DONE (mAPKLData)