Back to Build/check report for BioC 3.14 experimental data
ABCDEFGHIJK[L]MNOPQRSTUVWXYZ

This page was generated on 2021-10-23 15:51:47 -0400 (Sat, 23 Oct 2021).

CHECK results for lungExpression on nebbiolo2

To the developers/maintainers of the lungExpression package:
Make sure to use the following settings in order to reproduce any error or warning you see on this page.

raw results

Package 205/408HostnameOS / ArchINSTALLBUILDCHECK
lungExpression 0.31.0  (landing page)
Robert Scharpf
Snapshot Date: 2021-10-23 09:30:01 -0400 (Sat, 23 Oct 2021)
git_url: https://git.bioconductor.org/packages/lungExpression
git_branch: master
git_last_commit: 429dfab
git_last_commit_date: 2021-05-19 11:26:07 -0400 (Wed, 19 May 2021)
nebbiolo2Linux (Ubuntu 20.04.2 LTS) / x86_64  OK    OK    OK  UNNEEDED, same version is already published

Summary

Package: lungExpression
Version: 0.31.0
Command: /home/biocbuild/bbs-3.14-bioc/R/bin/R CMD check --install=check:lungExpression.install-out.txt --library=/home/biocbuild/bbs-3.14-bioc/R/library --no-vignettes --timings lungExpression_0.31.0.tar.gz
StartedAt: 2021-10-23 12:26:59 -0400 (Sat, 23 Oct 2021)
EndedAt: 2021-10-23 12:27:16 -0400 (Sat, 23 Oct 2021)
EllapsedTime: 16.3 seconds
RetCode: 0
Status:   OK  
CheckDir: lungExpression.Rcheck
Warnings: 0

Command output

##############################################################################
##############################################################################
###
### Running command:
###
###   /home/biocbuild/bbs-3.14-bioc/R/bin/R CMD check --install=check:lungExpression.install-out.txt --library=/home/biocbuild/bbs-3.14-bioc/R/library --no-vignettes --timings lungExpression_0.31.0.tar.gz
###
##############################################################################
##############################################################################


* using log directory ‘/home/biocbuild/bbs-3.14-data-experiment/meat/lungExpression.Rcheck’
* using R version 4.1.1 (2021-08-10)
* using platform: x86_64-pc-linux-gnu (64-bit)
* using session charset: UTF-8
* using option ‘--no-vignettes’
* checking for file ‘lungExpression/DESCRIPTION’ ... OK
* this is package ‘lungExpression’ version ‘0.31.0’
* checking package namespace information ... OK
* checking package dependencies ... OK
* checking if this is a source package ... OK
* checking if there is a namespace ... OK
* checking for hidden files and directories ... OK
* checking for portable file names ... OK
* checking for sufficient/correct file permissions ... OK
* checking whether package ‘lungExpression’ can be installed ... OK
* checking installed package size ... NOTE
  installed size is  5.8Mb
  sub-directories of 1Mb or more:
    data   5.7Mb
* checking package directory ... OK
* checking DESCRIPTION meta-information ... NOTE
Malformed Description field: should contain one or more complete sentences.
* checking top-level files ... OK
* checking for left-over files ... OK
* checking index information ... OK
* checking package subdirectories ... OK
* checking whether the package can be loaded ... OK
* checking whether the package can be loaded with stated dependencies ... OK
* checking whether the package can be unloaded cleanly ... OK
* checking whether the namespace can be loaded with stated dependencies ... OK
* checking whether the namespace can be unloaded cleanly ... OK
* checking Rd files ... NOTE
prepare_Rd: harvard.Rd:10-11: Dropping empty section \format
prepare_Rd: harvard.Rd:17-18: Dropping empty section \source
prepare_Rd: michigan.Rd:10-11: Dropping empty section \format
prepare_Rd: michigan.Rd:17-18: Dropping empty section \source
prepare_Rd: stanford.Rd:9-10: Dropping empty section \format
prepare_Rd: stanford.Rd:16-18: Dropping empty section \source
* checking Rd metadata ... OK
* checking Rd cross-references ... OK
* checking for missing documentation entries ... OK
* checking for code/documentation mismatches ... OK
* checking Rd \usage sections ... OK
* checking Rd contents ... OK
* checking for unstated dependencies in examples ... OK
* checking contents of ‘data’ directory ... OK
* checking data for non-ASCII characters ... OK
* checking data for ASCII and uncompressed saves ... OK
* checking examples ... OK
* checking PDF version of manual ... OK
* DONE

Status: 3 NOTEs
See
  ‘/home/biocbuild/bbs-3.14-data-experiment/meat/lungExpression.Rcheck/00check.log’
for details.



Installation output

lungExpression.Rcheck/00install.out

##############################################################################
##############################################################################
###
### Running command:
###
###   /home/biocbuild/bbs-3.14-bioc/R/bin/R CMD INSTALL lungExpression
###
##############################################################################
##############################################################################


* installing to library ‘/home/biocbuild/bbs-3.14-bioc/R/library’
* installing *source* package ‘lungExpression’ ...
** using staged installation
** data
** help
*** installing help indices
** building package indices
** testing if installed package can be loaded from temporary location
** testing if installed package can be loaded from final location
** testing if installed package keeps a record of temporary installation path
* DONE (lungExpression)

Tests output


Example timings

lungExpression.Rcheck/lungExpression-Ex.timings

nameusersystemelapsed
harvard0.0700.0080.078
michigan0.0110.0080.018
stanford0.0120.0000.012