Back to Build/check report for BioC 3.14 experimental data
ABCDEFGHIJK[L]MNOPQRSTUVWXYZ

This page was generated on 2021-10-21 15:52:03 -0400 (Thu, 21 Oct 2021).

BUILD results for lumiBarnes on nebbiolo2

To the developers/maintainers of the lumiBarnes package:
Make sure to use the following settings in order to reproduce any error or warning you see on this page.

raw results

Package 201/406HostnameOS / ArchINSTALLBUILDCHECK
lumiBarnes 1.33.0  (landing page)
Pan Du
Snapshot Date: 2021-10-21 09:30:01 -0400 (Thu, 21 Oct 2021)
git_url: https://git.bioconductor.org/packages/lumiBarnes
git_branch: master
git_last_commit: e5eff93
git_last_commit_date: 2021-05-19 11:26:10 -0400 (Wed, 19 May 2021)
nebbiolo2Linux (Ubuntu 20.04.2 LTS) / x86_64  OK    OK    WARNINGS  UNNEEDED, same version is already published

Summary

Package: lumiBarnes
Version: 1.33.0
Command: /home/biocbuild/bbs-3.14-bioc/R/bin/R CMD build --keep-empty-dirs --no-resave-data lumiBarnes
StartedAt: 2021-10-21 11:26:24 -0400 (Thu, 21 Oct 2021)
EndedAt: 2021-10-21 11:26:24 -0400 (Thu, 21 Oct 2021)
EllapsedTime: 0.7 seconds
RetCode: 0
Status:   OK  
PackageFile: lumiBarnes_1.33.0.tar.gz
PackageFileSize: 4.985 MiB

Command output

##############################################################################
##############################################################################
###
### Running command:
###
###   /home/biocbuild/bbs-3.14-bioc/R/bin/R CMD build --keep-empty-dirs --no-resave-data lumiBarnes
###
##############################################################################
##############################################################################


* checking for file ‘lumiBarnes/DESCRIPTION’ ... OK
* preparing ‘lumiBarnes’:
* checking DESCRIPTION meta-information ... OK
* checking for LF line-endings in source and make files and shell scripts
* checking for empty or unneeded directories
* looking to see if a ‘data/datalist’ file should be added
* building ‘lumiBarnes_1.33.0.tar.gz’