Back to Build/check report for BioC 3.14 experimental data
ABCDEFGHIJK[L]MNOPQRSTUVWXYZ

This page was generated on 2021-10-21 15:52:03 -0400 (Thu, 21 Oct 2021).

BUILD results for leeBamViews on nebbiolo2

To the developers/maintainers of the leeBamViews package:
Make sure to use the following settings in order to reproduce any error or warning you see on this page.

raw results

Package 196/406HostnameOS / ArchINSTALLBUILDCHECK
leeBamViews 1.29.0  (landing page)
VJ Carey
Snapshot Date: 2021-10-21 09:30:01 -0400 (Thu, 21 Oct 2021)
git_url: https://git.bioconductor.org/packages/leeBamViews
git_branch: master
git_last_commit: 4a80b0c
git_last_commit_date: 2021-05-19 11:30:32 -0400 (Wed, 19 May 2021)
nebbiolo2Linux (Ubuntu 20.04.2 LTS) / x86_64  OK    OK    OK  UNNEEDED, same version is already published

Summary

Package: leeBamViews
Version: 1.29.0
Command: /home/biocbuild/bbs-3.14-bioc/R/bin/R CMD build --keep-empty-dirs --no-resave-data leeBamViews
StartedAt: 2021-10-21 11:25:47 -0400 (Thu, 21 Oct 2021)
EndedAt: 2021-10-21 11:26:35 -0400 (Thu, 21 Oct 2021)
EllapsedTime: 48.1 seconds
RetCode: 0
Status:   OK  
PackageFile: leeBamViews_1.29.0.tar.gz
PackageFileSize: 10.95 MiB

Command output

##############################################################################
##############################################################################
###
### Running command:
###
###   /home/biocbuild/bbs-3.14-bioc/R/bin/R CMD build --keep-empty-dirs --no-resave-data leeBamViews
###
##############################################################################
##############################################################################


* checking for file ‘leeBamViews/DESCRIPTION’ ... OK
* preparing ‘leeBamViews’:
* checking DESCRIPTION meta-information ... OK
* installing the package to build vignettes
* creating vignettes ... OK
* checking for LF line-endings in source and make files and shell scripts
* checking for empty or unneeded directories
* looking to see if a ‘data/datalist’ file should be added
* building ‘leeBamViews_1.29.0.tar.gz’