Back to Build/check report for BioC 3.15 experimental data
ABCDEFGH[I]JKLMNOPQRSTUVWXYZ

This page was generated on 2021-10-26 15:49:12 -0400 (Tue, 26 Oct 2021).

All results for package imcdatasets

To the developers/maintainers of the imcdatasets package:
Make sure to use the following settings in order to reproduce any error or warning you see on this page.

raw results

Package 186/403HostnameOS / ArchINSTALLBUILDCHECK
imcdatasets 1.1.2  (landing page)
Nicolas Damond
Snapshot Date: 2021-10-26 09:30:01 -0400 (Tue, 26 Oct 2021)
git_url: https://git.bioconductor.org/packages/imcdatasets
git_branch: master
git_last_commit: 160e4ce
git_last_commit_date: 2021-06-15 06:24:36 -0400 (Tue, 15 Jun 2021)
nebbiolo1Linux (Ubuntu 20.04.2 LTS) / x86_64  OK    OK    OK  NO, package depends on 'SingleCellExperiment' which is not available