Back to Build/check report for BioC 3.14 experimental data
ABCDEFG[H]IJKLMNOPQRSTUVWXYZ

This page was generated on 2021-10-23 15:51:47 -0400 (Sat, 23 Oct 2021).

BUILD results for humanStemCell on nebbiolo2

To the developers/maintainers of the humanStemCell package:
Make sure to use the following settings in order to reproduce any error or warning you see on this page.

raw results

Package 184/408HostnameOS / ArchINSTALLBUILDCHECK
humanStemCell 0.33.0  (landing page)
R. Gentleman
Snapshot Date: 2021-10-23 09:30:01 -0400 (Sat, 23 Oct 2021)
git_url: https://git.bioconductor.org/packages/humanStemCell
git_branch: master
git_last_commit: 6a017ce
git_last_commit_date: 2021-05-19 11:29:40 -0400 (Wed, 19 May 2021)
nebbiolo2Linux (Ubuntu 20.04.2 LTS) / x86_64  OK    OK    WARNINGS  UNNEEDED, same version is already published

Summary

Package: humanStemCell
Version: 0.33.0
Command: /home/biocbuild/bbs-3.14-bioc/R/bin/R CMD build --keep-empty-dirs --no-resave-data humanStemCell
StartedAt: 2021-10-23 11:25:42 -0400 (Sat, 23 Oct 2021)
EndedAt: 2021-10-23 11:26:34 -0400 (Sat, 23 Oct 2021)
EllapsedTime: 51.6 seconds
RetCode: 0
Status:   OK  
PackageFile: humanStemCell_0.33.0.tar.gz
PackageFileSize: 30.64 MiB

Command output

##############################################################################
##############################################################################
###
### Running command:
###
###   /home/biocbuild/bbs-3.14-bioc/R/bin/R CMD build --keep-empty-dirs --no-resave-data humanStemCell
###
##############################################################################
##############################################################################


* checking for file ‘humanStemCell/DESCRIPTION’ ... OK
* preparing ‘humanStemCell’:
* checking DESCRIPTION meta-information ... OK
* checking for LF line-endings in source and make files and shell scripts
* checking for empty or unneeded directories
* looking to see if a ‘data/datalist’ file should be added
* building ‘humanStemCell_0.33.0.tar.gz’