Index of /checkResults/devel/data-experiment-LATEST/hgu2beta7/raw-results/nebbiolo2

[ICO]NameLast modifiedSizeDescription

[DIR]Parent Directory  -  
[TXT]buildsrc-out.txt20-Jan-2022 22:37 753  
[   ]buildsrc-summary.dcf20-Jan-2022 22:37 433  
[TXT]checksrc-out.txt20-Jan-2022 22:37 3.5K 
[   ]checksrc-summary.dcf20-Jan-2022 22:37 459  
[TXT]install-out.txt20-Jan-2022 22:37 1.0K 
[   ]install-summary.dcf20-Jan-2022 22:37 273