Index of /checkResults/devel/data-experiment-LATEST/hgu2beta7/raw-results

[ICO]NameLast modifiedSizeDescription

[DIR]Parent Directory  -  
[   ]info.dcf20-May-2022 03:50 295  
[DIR]nebbiolo2/20-May-2022 03:50 -