![]() | Name | Last modified | Size | Description |
---|---|---|---|---|
![]() | Parent Directory | - | ||
![]() | install-summary.dcf | 18-May-2022 03:50 | 261 | |
![]() | buildsrc-summary.dcf | 18-May-2022 03:50 | 419 | |
![]() | install-out.txt | 18-May-2022 03:50 | 950 | |
![]() | buildsrc-out.txt | 18-May-2022 03:50 | 873 | |
![]() | checksrc-out.txt | 18-May-2022 03:50 | 4.0K | |
![]() | checksrc-summary.dcf | 18-May-2022 03:50 | 427 | |