Index of /checkResults/devel/data-experiment-LATEST/harbChIP/raw-results/nebbiolo2

[ICO]NameLast modifiedSizeDescription

[DIR]Parent Directory  -  
[TXT]buildsrc-out.txt25-Jan-2022 22:37 884  
[   ]buildsrc-summary.dcf25-Jan-2022 22:37 431  
[TXT]checksrc-out.txt25-Jan-2022 22:37 4.0K 
[   ]checksrc-summary.dcf25-Jan-2022 22:37 449  
[TXT]install-out.txt25-Jan-2022 22:37 972  
[   ]install-summary.dcf25-Jan-2022 22:37 272