Back to Build/check report for BioC 3.17 experimental data
ABCDEFG[H]IJKLMNOPQRSTUVWXYZ

This page was generated on 2022-12-01 14:51:29 -0500 (Thu, 01 Dec 2022).

HostnameOSArch (*)R versionInstalled pkgs
nebbiolo1Linux (Ubuntu 22.04.1 LTS)x86_64R Under development (unstable) (2022-10-25 r83175) -- "Unsuffered Consequences" 4462
Click on any hostname to see more info about the system (e.g. compilers)      (*) as reported by 'uname -p', except on Windows and Mac OS X

All results for package harbChIP


To the developers/maintainers of the harbChIP package:
Make sure to use the following settings in order to reproduce any error or warning you see on this page.

raw results

Package 162/414HostnameOS / ArchINSTALLBUILDCHECK
harbChIP 1.37.0  (landing page)
VJ Carey
Snapshot Date: 2022-12-01 07:30:02 -0500 (Thu, 01 Dec 2022)
git_url: https://git.bioconductor.org/packages/harbChIP
git_branch: master
git_last_commit: ee35962
git_last_commit_date: 2022-11-01 10:39:44 -0500 (Tue, 01 Nov 2022)
nebbiolo1Linux (Ubuntu 22.04.1 LTS) / x86_64  OK    OK    OK  UNNEEDED, same version is already published