Back to Build/check report for BioC 3.14 experimental data
ABCDEFG[H]IJKLMNOPQRSTUVWXYZ

This page was generated on 2021-10-21 15:52:03 -0400 (Thu, 21 Oct 2021).

BUILD results for hapmapsnp5 on nebbiolo2

To the developers/maintainers of the hapmapsnp5 package:
Make sure to use the following settings in order to reproduce any error or warning you see on this page.

raw results

Package 159/406HostnameOS / ArchINSTALLBUILDCHECK
hapmapsnp5 1.35.0  (landing page)
Benilton Carvalho
Snapshot Date: 2021-10-21 09:30:01 -0400 (Thu, 21 Oct 2021)
git_url: https://git.bioconductor.org/packages/hapmapsnp5
git_branch: master
git_last_commit: 2e5321d
git_last_commit_date: 2021-05-19 11:28:06 -0400 (Wed, 19 May 2021)
nebbiolo2Linux (Ubuntu 20.04.2 LTS) / x86_64  OK    OK    OK  UNNEEDED, same version is already published

Summary

Package: hapmapsnp5
Version: 1.35.0
Command: /home/biocbuild/bbs-3.14-bioc/R/bin/R CMD build --keep-empty-dirs --no-resave-data hapmapsnp5
StartedAt: 2021-10-21 11:22:16 -0400 (Thu, 21 Oct 2021)
EndedAt: 2021-10-21 11:23:46 -0400 (Thu, 21 Oct 2021)
EllapsedTime: 90.2 seconds
RetCode: 0
Status:   OK  
PackageFile: hapmapsnp5_1.35.0.tar.gz
PackageFileSize: 59.41 MiB

Command output

##############################################################################
##############################################################################
###
### Running command:
###
###   /home/biocbuild/bbs-3.14-bioc/R/bin/R CMD build --keep-empty-dirs --no-resave-data hapmapsnp5
###
##############################################################################
##############################################################################


* checking for file ‘hapmapsnp5/DESCRIPTION’ ... OK
* preparing ‘hapmapsnp5’:
* checking DESCRIPTION meta-information ... OK
* checking for LF line-endings in source and make files and shell scripts
* checking for empty or unneeded directories
* building ‘hapmapsnp5_1.35.0.tar.gz’