Back to Build/check report for BioC 3.14 experimental data
ABCDEFG[H]IJKLMNOPQRSTUVWXYZ

This page was generated on 2021-10-23 15:51:46 -0400 (Sat, 23 Oct 2021).

All results for package hapmap500knsp

To the developers/maintainers of the hapmap500knsp package:
Make sure to use the following settings in order to reproduce any error or warning you see on this page.

raw results

Package 158/408HostnameOS / ArchINSTALLBUILDCHECK
hapmap500knsp 1.35.0  (landing page)
Benilton Carvalho
Snapshot Date: 2021-10-23 09:30:01 -0400 (Sat, 23 Oct 2021)
git_url: https://git.bioconductor.org/packages/hapmap500knsp
git_branch: master
git_last_commit: 533422c
git_last_commit_date: 2021-05-19 11:26:59 -0400 (Wed, 19 May 2021)
nebbiolo2Linux (Ubuntu 20.04.2 LTS) / x86_64  OK    OK    OK  UNNEEDED, same version is already published