Index of /checkResults/devel/data-experiment-LATEST/hapmap100khind/raw-results/nebbiolo2

[ICO]NameLast modifiedSizeDescription

[DIR]Parent Directory  -  
[TXT]buildsrc-out.txt25-Jan-2022 22:37 773  
[   ]buildsrc-summary.dcf25-Jan-2022 22:37 449  
[TXT]checksrc-out.txt25-Jan-2022 22:37 2.9K 
[   ]checksrc-summary.dcf25-Jan-2022 22:37 473  
[TXT]install-out.txt25-Jan-2022 22:37 966  
[   ]install-summary.dcf25-Jan-2022 22:37 283