Index of /checkResults/devel/data-experiment-LATEST/hapmap100khind/raw-results

[ICO]NameLast modifiedSizeDescription

[DIR]Parent Directory  -  
[   ]info.dcf20-Jan-2022 22:37 295  
[DIR]nebbiolo2/20-Jan-2022 22:37 -