Back to Build/check report for BioC 3.14 experimental data
ABCDEFG[H]IJKLMNOPQRSTUVWXYZ

This page was generated on 2021-10-23 15:51:47 -0400 (Sat, 23 Oct 2021).

INSTALL results for hapmap100khind on nebbiolo2

To the developers/maintainers of the hapmap100khind package:
Make sure to use the following settings in order to reproduce any error or warning you see on this page.

raw results

Package 156/408HostnameOS / ArchINSTALLBUILDCHECK
hapmap100khind 1.35.0  (landing page)
Benilton Carvalho
Snapshot Date: 2021-10-23 09:30:01 -0400 (Sat, 23 Oct 2021)
git_url: https://git.bioconductor.org/packages/hapmap100khind
git_branch: master
git_last_commit: f69cd7f
git_last_commit_date: 2021-05-19 11:26:53 -0400 (Wed, 19 May 2021)
nebbiolo2Linux (Ubuntu 20.04.2 LTS) / x86_64  OK    OK    OK  UNNEEDED, same version is already published

Summary

Package: hapmap100khind
Version: 1.35.0
Command: /home/biocbuild/bbs-3.14-bioc/R/bin/R CMD INSTALL hapmap100khind
StartedAt: 2021-10-23 11:00:31 -0400 (Sat, 23 Oct 2021)
EndedAt: 2021-10-23 11:00:33 -0400 (Sat, 23 Oct 2021)
EllapsedTime: 1.4 seconds
RetCode: 0
Status:   OK  

Command output

##############################################################################
##############################################################################
###
### Running command:
###
###   /home/biocbuild/bbs-3.14-bioc/R/bin/R CMD INSTALL hapmap100khind
###
##############################################################################
##############################################################################


* installing to library ‘/home/biocbuild/bbs-3.14-bioc/R/library’
* installing *source* package ‘hapmap100khind’ ...
** using staged installation
** R
** inst
** byte-compile and prepare package for lazy loading
** help
*** installing help indices
** building package indices
** testing if installed package can be loaded from temporary location
** testing if installed package can be loaded from final location
** testing if installed package keeps a record of temporary installation path
* DONE (hapmap100khind)