Back to Build/check report for BioC 3.15 experimental data
ABCDE[F]GHIJKLMNOPQRSTUVWXYZ

This page was generated on 2022-01-27 08:36:55 -0500 (Thu, 27 Jan 2022).

HostnameOSArch (*)R versionInstalled pkgs
nebbiolo2Linux (Ubuntu 20.04.4 LTS)x86_64R Under development (unstable) (2022-01-05 r81451) -- "Unsuffered Consequences" 1324
Click on any hostname to see more info about the system (e.g. compilers)      (*) as reported by 'uname -p', except on Windows and Mac OS X

INSTALL results for flowWorkspaceData on nebbiolo2


To the developers/maintainers of the flowWorkspaceData package:
Make sure to use the following settings in order to reproduce any error or warning you see on this page.

raw results

Package 132/406HostnameOS / ArchINSTALLBUILDCHECK
flowWorkspaceData 3.7.0  (landing page)
Mike Jiang
Snapshot Date: 2022-01-27 04:00:02 -0500 (Thu, 27 Jan 2022)
git_url: https://git.bioconductor.org/packages/flowWorkspaceData
git_branch: master
git_last_commit: e9c3b88
git_last_commit_date: 2021-10-26 11:46:42 -0500 (Tue, 26 Oct 2021)
nebbiolo2Linux (Ubuntu 20.04.4 LTS) / x86_64  OK    OK    OK  UNNEEDED, same version is already published

Summary

Package: flowWorkspaceData
Version: 3.7.0
Command: /home/biocbuild/bbs-3.15-data-experiment/R/bin/R CMD INSTALL flowWorkspaceData
StartedAt: 2022-01-27 05:01:59 -0500 (Thu, 27 Jan 2022)
EndedAt: 2022-01-27 05:02:03 -0500 (Thu, 27 Jan 2022)
EllapsedTime: 4.3 seconds
RetCode: 0
Status:   OK  

Command output

##############################################################################
##############################################################################
###
### Running command:
###
###   /home/biocbuild/bbs-3.15-data-experiment/R/bin/R CMD INSTALL flowWorkspaceData
###
##############################################################################
##############################################################################


* installing to library ‘/home/biocbuild/bbs-3.15-data-experiment/R/library’
* installing *source* package ‘flowWorkspaceData’ ...
** using staged installation
** R
** inst
** byte-compile and prepare package for lazy loading
** help
*** installing help indices
** building package indices
** testing if installed package can be loaded from temporary location
** testing if installed package can be loaded from final location
** testing if installed package keeps a record of temporary installation path
* DONE (flowWorkspaceData)