Back to Build/check report for BioC 3.15 experimental data
ABCDE[F]GHIJKLMNOPQRSTUVWXYZ

This page was generated on 2021-12-05 17:50:12 -0500 (Sun, 05 Dec 2021).

CHECK results for flowWorkspaceData on nebbiolo2

To the developers/maintainers of the flowWorkspaceData package:
Make sure to use the following settings in order to reproduce any error or warning you see on this page.

raw results

Package 131/404HostnameOS / ArchINSTALLBUILDCHECK
flowWorkspaceData 3.7.0  (landing page)
Mike Jiang
Snapshot Date: 2021-12-05 07:30:02 -0500 (Sun, 05 Dec 2021)
git_url: https://git.bioconductor.org/packages/flowWorkspaceData
git_branch: master
git_last_commit: e9c3b88
git_last_commit_date: 2021-10-26 11:46:42 -0500 (Tue, 26 Oct 2021)
nebbiolo2Linux (Ubuntu 20.04.3 LTS) / x86_64  OK    OK    OK  UNNEEDED, same version is already published

Summary

Package: flowWorkspaceData
Version: 3.7.0
Command: /home/biocbuild/bbs-3.15-data-experiment/R/bin/R CMD check --install=check:flowWorkspaceData.install-out.txt --library=/home/biocbuild/bbs-3.15-data-experiment/R/library --no-vignettes --timings flowWorkspaceData_3.7.0.tar.gz
StartedAt: 2021-12-05 13:47:34 -0500 (Sun, 05 Dec 2021)
EndedAt: 2021-12-05 13:47:48 -0500 (Sun, 05 Dec 2021)
EllapsedTime: 13.9 seconds
RetCode: 0
Status:   OK  
CheckDir: flowWorkspaceData.Rcheck
Warnings: 0

Command output

##############################################################################
##############################################################################
###
### Running command:
###
###   /home/biocbuild/bbs-3.15-data-experiment/R/bin/R CMD check --install=check:flowWorkspaceData.install-out.txt --library=/home/biocbuild/bbs-3.15-data-experiment/R/library --no-vignettes --timings flowWorkspaceData_3.7.0.tar.gz
###
##############################################################################
##############################################################################


* using log directory ‘/home/biocbuild/bbs-3.15-data-experiment/meat/flowWorkspaceData.Rcheck’
* using R Under development (unstable) (2021-11-16 r81199)
* using platform: x86_64-pc-linux-gnu (64-bit)
* using session charset: UTF-8
* using option ‘--no-vignettes’
* checking for file ‘flowWorkspaceData/DESCRIPTION’ ... OK
* checking extension type ... Package
* this is package ‘flowWorkspaceData’ version ‘3.7.0’
* checking package namespace information ... OK
* checking package dependencies ... OK
* checking if this is a source package ... OK
* checking if there is a namespace ... OK
* checking for hidden files and directories ... OK
* checking for portable file names ... OK
* checking for sufficient/correct file permissions ... OK
* checking whether package ‘flowWorkspaceData’ can be installed ... OK
* checking installed package size ... NOTE
  installed size is 90.6Mb
  sub-directories of 1Mb or more:
    extdata  90.5Mb
* checking package directory ... OK
* checking DESCRIPTION meta-information ... NOTE
Malformed Title field: should not end in a period.
* checking top-level files ... OK
* checking for left-over files ... OK
* checking index information ... OK
* checking package subdirectories ... OK
* checking R files for non-ASCII characters ... OK
* checking R files for syntax errors ... OK
* checking whether the package can be loaded ... OK
* checking whether the package can be loaded with stated dependencies ... OK
* checking whether the package can be unloaded cleanly ... OK
* checking whether the namespace can be loaded with stated dependencies ... OK
* checking whether the namespace can be unloaded cleanly ... OK
* checking dependencies in R code ... OK
* checking S3 generic/method consistency ... OK
* checking replacement functions ... OK
* checking foreign function calls ... OK
* checking R code for possible problems ... OK
* checking Rd files ... OK
* checking Rd metadata ... OK
* checking Rd cross-references ... OK
* checking for missing documentation entries ... OK
* checking for code/documentation mismatches ... OK
* checking Rd \usage sections ... OK
* checking Rd contents ... OK
* checking for unstated dependencies in examples ... OK
* checking examples ... OK
* checking PDF version of manual ... OK
* DONE

Status: 2 NOTEs
See
  ‘/home/biocbuild/bbs-3.15-data-experiment/meat/flowWorkspaceData.Rcheck/00check.log’
for details.



Installation output

flowWorkspaceData.Rcheck/00install.out

##############################################################################
##############################################################################
###
### Running command:
###
###   /home/biocbuild/bbs-3.15-data-experiment/R/bin/R CMD INSTALL flowWorkspaceData
###
##############################################################################
##############################################################################


* installing to library ‘/home/biocbuild/bbs-3.15-data-experiment/R/library’
* installing *source* package ‘flowWorkspaceData’ ...
** using staged installation
** R
** inst
** byte-compile and prepare package for lazy loading
** help
*** installing help indices
** building package indices
** testing if installed package can be loaded from temporary location
** testing if installed package can be loaded from final location
** testing if installed package keeps a record of temporary installation path
* DONE (flowWorkspaceData)

Tests output


Example timings

flowWorkspaceData.Rcheck/flowWorkspaceData-Ex.timings

nameusersystemelapsed
flowWorkspaceData-package000
flowWorkspaceDataInfo000