Back to Build/check report for BioC 3.14 experimental data
ABCDE[F]GHIJKLMNOPQRSTUVWXYZ

This page was generated on 2021-10-19 15:52:17 -0400 (Tue, 19 Oct 2021).

BUILD results for flowWorkspaceData on nebbiolo2

To the developers/maintainers of the flowWorkspaceData package:
Make sure to use the following settings in order to reproduce any error or warning you see on this page.

raw results

Package 132/404HostnameOS / ArchINSTALLBUILDCHECK
flowWorkspaceData 3.5.0  (landing page)
Mike Jiang
Snapshot Date: 2021-10-19 09:30:02 -0400 (Tue, 19 Oct 2021)
git_url: https://git.bioconductor.org/packages/flowWorkspaceData
git_branch: master
git_last_commit: 4eff897
git_last_commit_date: 2021-05-19 11:31:55 -0400 (Wed, 19 May 2021)
nebbiolo2Linux (Ubuntu 20.04.2 LTS) / x86_64  OK    OK    OK  UNNEEDED, same version is already published

Summary

Package: flowWorkspaceData
Version: 3.5.0
Command: /home/biocbuild/bbs-3.14-bioc/R/bin/R CMD build --keep-empty-dirs --no-resave-data flowWorkspaceData
StartedAt: 2021-10-19 11:19:24 -0400 (Tue, 19 Oct 2021)
EndedAt: 2021-10-19 11:19:36 -0400 (Tue, 19 Oct 2021)
EllapsedTime: 12.4 seconds
RetCode: 0
Status:   OK  
PackageFile: flowWorkspaceData_3.5.0.tar.gz
PackageFileSize: 71.15 MiB

Command output

##############################################################################
##############################################################################
###
### Running command:
###
###   /home/biocbuild/bbs-3.14-bioc/R/bin/R CMD build --keep-empty-dirs --no-resave-data flowWorkspaceData
###
##############################################################################
##############################################################################


* checking for file ‘flowWorkspaceData/DESCRIPTION’ ... OK
* preparing ‘flowWorkspaceData’:
* checking DESCRIPTION meta-information ... OK
* checking for LF line-endings in source and make files and shell scripts
* checking for empty or unneeded directories
* building ‘flowWorkspaceData_3.5.0.tar.gz’