Back to Build/check report for BioC 3.14 experimental data
ABCDE[F]GHIJKLMNOPQRSTUVWXYZ

This page was generated on 2021-10-23 15:51:47 -0400 (Sat, 23 Oct 2021).

BUILD results for fission on nebbiolo2

To the developers/maintainers of the fission package:
Make sure to use the following settings in order to reproduce any error or warning you see on this page.

raw results

Package 123/408HostnameOS / ArchINSTALLBUILDCHECK
fission 1.13.0  (landing page)
Michael Love
Snapshot Date: 2021-10-23 09:30:01 -0400 (Sat, 23 Oct 2021)
git_url: https://git.bioconductor.org/packages/fission
git_branch: master
git_last_commit: b123c62
git_last_commit_date: 2021-05-19 11:47:51 -0400 (Wed, 19 May 2021)
nebbiolo2Linux (Ubuntu 20.04.2 LTS) / x86_64  OK    OK    OK  UNNEEDED, same version is already published

Summary

Package: fission
Version: 1.13.0
Command: /home/biocbuild/bbs-3.14-bioc/R/bin/R CMD build --keep-empty-dirs --no-resave-data fission
StartedAt: 2021-10-23 11:19:03 -0400 (Sat, 23 Oct 2021)
EndedAt: 2021-10-23 11:19:17 -0400 (Sat, 23 Oct 2021)
EllapsedTime: 14.2 seconds
RetCode: 0
Status:   OK  
PackageFile: fission_1.13.0.tar.gz
PackageFileSize: 430.7 KiB

Command output

##############################################################################
##############################################################################
###
### Running command:
###
###   /home/biocbuild/bbs-3.14-bioc/R/bin/R CMD build --keep-empty-dirs --no-resave-data fission
###
##############################################################################
##############################################################################


* checking for file ‘fission/DESCRIPTION’ ... OK
* preparing ‘fission’:
* checking DESCRIPTION meta-information ... OK
* installing the package to build vignettes
* creating vignettes ... OK
* checking for LF line-endings in source and make files and shell scripts
* checking for empty or unneeded directories
* looking to see if a ‘data/datalist’ file should be added
* building ‘fission_1.13.0.tar.gz’