Back to Build/check report for BioC 3.14 experimental data
ABCDE[F]GHIJKLMNOPQRSTUVWXYZ

This page was generated on 2021-10-16 15:51:46 -0400 (Sat, 16 Oct 2021).

INSTALL results for faahKO on nebbiolo2

To the developers/maintainers of the faahKO package:
Make sure to use the following settings in order to reproduce any error or warning you see on this page.

raw results

Package 115/404HostnameOS / ArchINSTALLBUILDCHECK
faahKO 1.33.0  (landing page)
Steffen Neumann
Snapshot Date: 2021-10-16 09:30:02 -0400 (Sat, 16 Oct 2021)
git_url: https://git.bioconductor.org/packages/faahKO
git_branch: master
git_last_commit: fe9a0d2
git_last_commit_date: 2021-05-19 11:24:24 -0400 (Wed, 19 May 2021)
nebbiolo2Linux (Ubuntu 20.04.2 LTS) / x86_64  OK    OK    OK  UNNEEDED, same version is already published

Summary

Package: faahKO
Version: 1.33.0
Command: /home/biocbuild/bbs-3.14-bioc/R/bin/R CMD INSTALL faahKO
StartedAt: 2021-10-16 11:06:09 -0400 (Sat, 16 Oct 2021)
EndedAt: 2021-10-16 11:06:39 -0400 (Sat, 16 Oct 2021)
EllapsedTime: 29.3 seconds
RetCode: 0
Status:   OK  

Command output

##############################################################################
##############################################################################
###
### Running command:
###
###   /home/biocbuild/bbs-3.14-bioc/R/bin/R CMD INSTALL faahKO
###
##############################################################################
##############################################################################


* installing to library ‘/home/biocbuild/bbs-3.14-bioc/R/library’
* installing *source* package ‘faahKO’ ...
** using staged installation
** R
** data
** inst
** byte-compile and prepare package for lazy loading
** help
*** installing help indices
** building package indices
** testing if installed package can be loaded from temporary location
** testing if installed package can be loaded from final location
** testing if installed package keeps a record of temporary installation path
* DONE (faahKO)