Back to Build/check report for BioC 3.15 experimental data
ABCD[E]FGHIJKLMNOPQRSTUVWXYZ

This page was generated on 2021-11-28 18:35:03 -0500 (Sun, 28 Nov 2021).

CHECK results for etec16s on nebbiolo2

To the developers/maintainers of the etec16s package:
Make sure to use the following settings in order to reproduce any error or warning you see on this page.

raw results

Package 112/404HostnameOS / ArchINSTALLBUILDCHECK
etec16s 1.23.0  (landing page)
Joseph N. Paulson
Snapshot Date: 2021-11-28 08:30:02 -0500 (Sun, 28 Nov 2021)
git_url: https://git.bioconductor.org/packages/etec16s
git_branch: master
git_last_commit: 4c70acb
git_last_commit_date: 2021-10-26 12:23:21 -0500 (Tue, 26 Oct 2021)
nebbiolo2Linux (Ubuntu 20.04.3 LTS) / x86_64  OK    OK    OK  UNNEEDED, same version is already published

Summary

Package: etec16s
Version: 1.23.0
Command: /home/biocbuild/bbs-3.15-data-experiment/R/bin/R CMD check --install=check:etec16s.install-out.txt --library=/home/biocbuild/bbs-3.15-data-experiment/R/library --no-vignettes --timings etec16s_1.23.0.tar.gz
StartedAt: 2021-11-28 14:46:28 -0500 (Sun, 28 Nov 2021)
EndedAt: 2021-11-28 14:46:51 -0500 (Sun, 28 Nov 2021)
EllapsedTime: 22.7 seconds
RetCode: 0
Status:   OK  
CheckDir: etec16s.Rcheck
Warnings: 0

Command output

##############################################################################
##############################################################################
###
### Running command:
###
###   /home/biocbuild/bbs-3.15-data-experiment/R/bin/R CMD check --install=check:etec16s.install-out.txt --library=/home/biocbuild/bbs-3.15-data-experiment/R/library --no-vignettes --timings etec16s_1.23.0.tar.gz
###
##############################################################################
##############################################################################


* using log directory ‘/home/biocbuild/bbs-3.15-data-experiment/meat/etec16s.Rcheck’
* using R Under development (unstable) (2021-11-16 r81199)
* using platform: x86_64-pc-linux-gnu (64-bit)
* using session charset: UTF-8
* using option ‘--no-vignettes’
* checking for file ‘etec16s/DESCRIPTION’ ... OK
* this is package ‘etec16s’ version ‘1.23.0’
* checking package namespace information ... OK
* checking package dependencies ... OK
* checking if this is a source package ... OK
* checking if there is a namespace ... OK
* checking for hidden files and directories ... OK
* checking for portable file names ... OK
* checking for sufficient/correct file permissions ... OK
* checking whether package ‘etec16s’ can be installed ... OK
* checking installed package size ... OK
* checking package directory ... OK
* checking ‘build’ directory ... OK
* checking DESCRIPTION meta-information ... OK
* checking top-level files ... OK
* checking for left-over files ... OK
* checking index information ... OK
* checking package subdirectories ... OK
* checking whether the package can be loaded ... OK
* checking whether the package can be loaded with stated dependencies ... OK
* checking whether the package can be unloaded cleanly ... OK
* checking whether the namespace can be loaded with stated dependencies ... OK
* checking whether the namespace can be unloaded cleanly ... OK
* checking Rd files ... OK
* checking Rd metadata ... OK
* checking Rd cross-references ... OK
* checking for missing documentation entries ... OK
* checking for code/documentation mismatches ... OK
* checking Rd \usage sections ... OK
* checking Rd contents ... OK
* checking for unstated dependencies in examples ... OK
* checking contents of ‘data’ directory ... OK
* checking data for non-ASCII characters ... OK
* checking LazyData ... OK
* checking data for ASCII and uncompressed saves ... OK
* checking files in ‘vignettes’ ... OK
* checking examples ... OK
* checking for unstated dependencies in vignettes ... OK
* checking package vignettes in ‘inst/doc’ ... OK
* checking running R code from vignettes ... SKIPPED
* checking re-building of vignette outputs ... SKIPPED
* checking PDF version of manual ... OK
* DONE

Status: OK


Installation output

etec16s.Rcheck/00install.out

##############################################################################
##############################################################################
###
### Running command:
###
###   /home/biocbuild/bbs-3.15-data-experiment/R/bin/R CMD INSTALL etec16s
###
##############################################################################
##############################################################################


* installing to library ‘/home/biocbuild/bbs-3.15-data-experiment/R/library’
* installing *source* package ‘etec16s’ ...
** using staged installation
** data
*** moving datasets to lazyload DB
** inst
** help
*** installing help indices
** building package indices
** installing vignettes
** testing if installed package can be loaded from temporary location
** testing if installed package can be loaded from final location
** testing if installed package keeps a record of temporary installation path
* DONE (etec16s)

Tests output


Example timings

etec16s.Rcheck/etec16s-Ex.timings

nameusersystemelapsed
etec16s0.0870.0130.099