Back to Build/check report for BioC 3.14 experimental data
ABCD[E]FGHIJKLMNOPQRSTUVWXYZ

This page was generated on 2021-10-16 15:51:46 -0400 (Sat, 16 Oct 2021).

BUILD results for etec16s on nebbiolo2

To the developers/maintainers of the etec16s package:
Make sure to use the following settings in order to reproduce any error or warning you see on this page.

raw results

Package 113/404HostnameOS / ArchINSTALLBUILDCHECK
etec16s 1.21.0  (landing page)
Joseph N. Paulson
Snapshot Date: 2021-10-16 09:30:02 -0400 (Sat, 16 Oct 2021)
git_url: https://git.bioconductor.org/packages/etec16s
git_branch: master
git_last_commit: ddb67ef
git_last_commit_date: 2021-05-19 11:57:04 -0400 (Wed, 19 May 2021)
nebbiolo2Linux (Ubuntu 20.04.2 LTS) / x86_64  OK    OK    OK  UNNEEDED, same version is already published

Summary

Package: etec16s
Version: 1.21.0
Command: /home/biocbuild/bbs-3.14-bioc/R/bin/R CMD build --keep-empty-dirs --no-resave-data etec16s
StartedAt: 2021-10-16 11:17:04 -0400 (Sat, 16 Oct 2021)
EndedAt: 2021-10-16 11:17:11 -0400 (Sat, 16 Oct 2021)
EllapsedTime: 6.5 seconds
RetCode: 0
Status:   OK  
PackageFile: etec16s_1.21.0.tar.gz
PackageFileSize: 253.8 KiB

Command output

##############################################################################
##############################################################################
###
### Running command:
###
###   /home/biocbuild/bbs-3.14-bioc/R/bin/R CMD build --keep-empty-dirs --no-resave-data etec16s
###
##############################################################################
##############################################################################


* checking for file ‘etec16s/DESCRIPTION’ ... OK
* preparing ‘etec16s’:
* checking DESCRIPTION meta-information ... OK
* installing the package to build vignettes
* creating vignettes ... OK
* checking for LF line-endings in source and make files and shell scripts
* checking for empty or unneeded directories
* building ‘etec16s_1.21.0.tar.gz’