Back to Build/check report for BioC 3.15 experimental data
ABCD[E]FGHIJKLMNOPQRSTUVWXYZ

This page was generated on 2021-12-05 17:50:12 -0500 (Sun, 05 Dec 2021).

BUILD results for ecoliLeucine on nebbiolo2

To the developers/maintainers of the ecoliLeucine package:
Make sure to use the following settings in order to reproduce any error or warning you see on this page.

raw results

Package 107/404HostnameOS / ArchINSTALLBUILDCHECK
ecoliLeucine 1.35.0  (landing page)
Laurent Gautier
Snapshot Date: 2021-12-05 07:30:02 -0500 (Sun, 05 Dec 2021)
git_url: https://git.bioconductor.org/packages/ecoliLeucine
git_branch: master
git_last_commit: 033a743
git_last_commit_date: 2021-10-26 11:39:21 -0500 (Tue, 26 Oct 2021)
nebbiolo2Linux (Ubuntu 20.04.3 LTS) / x86_64  OK    OK    WARNINGS  UNNEEDED, same version is already published

Summary

Package: ecoliLeucine
Version: 1.35.0
Command: /home/biocbuild/bbs-3.15-data-experiment/R/bin/R CMD build --keep-empty-dirs --no-resave-data ecoliLeucine
StartedAt: 2021-12-05 13:16:32 -0500 (Sun, 05 Dec 2021)
EndedAt: 2021-12-05 13:16:33 -0500 (Sun, 05 Dec 2021)
EllapsedTime: 0.9 seconds
RetCode: 0
Status:   OK  
PackageFile: ecoliLeucine_1.35.0.tar.gz
PackageFileSize: 5.936 MiB

Command output

##############################################################################
##############################################################################
###
### Running command:
###
###   /home/biocbuild/bbs-3.15-data-experiment/R/bin/R CMD build --keep-empty-dirs --no-resave-data ecoliLeucine
###
##############################################################################
##############################################################################


* checking for file ‘ecoliLeucine/DESCRIPTION’ ... OK
* preparing ‘ecoliLeucine’:
* checking DESCRIPTION meta-information ... OK
* checking for LF line-endings in source and make files and shell scripts
* checking for empty or unneeded directories
* looking to see if a ‘data/datalist’ file should be added
* building ‘ecoliLeucine_1.35.0.tar.gz’