Back to Build/check report for BioC 3.14 experimental data
ABC[D]EFGHIJKLMNOPQRSTUVWXYZ

This page was generated on 2021-10-23 15:51:47 -0400 (Sat, 23 Oct 2021).

INSTALL results for dyebiasexamples on nebbiolo2

To the developers/maintainers of the dyebiasexamples package:
Make sure to use the following settings in order to reproduce any error or warning you see on this page.

raw results

Package 106/408HostnameOS / ArchINSTALLBUILDCHECK
dyebiasexamples 1.33.0  (landing page)
Philip Lijnzaad
Snapshot Date: 2021-10-23 09:30:01 -0400 (Sat, 23 Oct 2021)
git_url: https://git.bioconductor.org/packages/dyebiasexamples
git_branch: master
git_last_commit: 85bd056
git_last_commit_date: 2021-05-19 11:29:58 -0400 (Wed, 19 May 2021)
nebbiolo2Linux (Ubuntu 20.04.2 LTS) / x86_64  OK    OK    WARNINGS  UNNEEDED, same version is already published

Summary

Package: dyebiasexamples
Version: 1.33.0
Command: /home/biocbuild/bbs-3.14-bioc/R/bin/R CMD INSTALL dyebiasexamples
StartedAt: 2021-10-23 11:02:31 -0400 (Sat, 23 Oct 2021)
EndedAt: 2021-10-23 11:02:35 -0400 (Sat, 23 Oct 2021)
EllapsedTime: 4.7 seconds
RetCode: 0
Status:   OK  

Command output

##############################################################################
##############################################################################
###
### Running command:
###
###   /home/biocbuild/bbs-3.14-bioc/R/bin/R CMD INSTALL dyebiasexamples
###
##############################################################################
##############################################################################


* installing to library ‘/home/biocbuild/bbs-3.14-bioc/R/library’
* installing *source* package ‘dyebiasexamples’ ...
** using staged installation
** R
** data
** inst
** byte-compile and prepare package for lazy loading
** help
Warning: /home/biocbuild/bbs-3.14-data-experiment/meat/dyebiasexamples/man/dyebias.geo2marray.Rd:10-17: Section \synopsis is unrecognized and will be dropped
Warning: /home/biocbuild/bbs-3.14-data-experiment/meat/dyebiasexamples/man/dyebias.umcu.proper.estimators.Rd:11-13: Section \synopsis is unrecognized and will be dropped
*** installing help indices
** building package indices
** installing vignettes
** testing if installed package can be loaded from temporary location
** testing if installed package can be loaded from final location
** testing if installed package keeps a record of temporary installation path
* DONE (dyebiasexamples)