Back to Build/check report for BioC 3.14 experimental data
ABC[D]EFGHIJKLMNOPQRSTUVWXYZ

This page was generated on 2021-10-19 15:52:17 -0400 (Tue, 19 Oct 2021).

BUILD results for dressCheck on nebbiolo2

To the developers/maintainers of the dressCheck package:
Make sure to use the following settings in order to reproduce any error or warning you see on this page.

raw results

Package 101/404HostnameOS / ArchINSTALLBUILDCHECK
dressCheck 0.31.0  (landing page)
Vincent Carey
Snapshot Date: 2021-10-19 09:30:02 -0400 (Tue, 19 Oct 2021)
git_url: https://git.bioconductor.org/packages/dressCheck
git_branch: master
git_last_commit: 4ee4796
git_last_commit_date: 2021-05-19 11:30:48 -0400 (Wed, 19 May 2021)
nebbiolo2Linux (Ubuntu 20.04.2 LTS) / x86_64  OK    OK    OK  UNNEEDED, same version is already published

Summary

Package: dressCheck
Version: 0.31.0
Command: /home/biocbuild/bbs-3.14-bioc/R/bin/R CMD build --keep-empty-dirs --no-resave-data dressCheck
StartedAt: 2021-10-19 11:16:51 -0400 (Tue, 19 Oct 2021)
EndedAt: 2021-10-19 11:17:11 -0400 (Tue, 19 Oct 2021)
EllapsedTime: 19.3 seconds
RetCode: 0
Status:   OK  
PackageFile: dressCheck_0.31.0.tar.gz
PackageFileSize: 65.7 MiB

Command output

##############################################################################
##############################################################################
###
### Running command:
###
###   /home/biocbuild/bbs-3.14-bioc/R/bin/R CMD build --keep-empty-dirs --no-resave-data dressCheck
###
##############################################################################
##############################################################################


* checking for file ‘dressCheck/DESCRIPTION’ ... OK
* preparing ‘dressCheck’:
* checking DESCRIPTION meta-information ... OK
* installing the package to build vignettes
* creating vignettes ... OK
* checking for LF line-endings in source and make files and shell scripts
* checking for empty or unneeded directories
* looking to see if a ‘data/datalist’ file should be added
* building ‘dressCheck_0.31.0.tar.gz’