Back to Build/check report for BioC 3.14 experimental data
ABC[D]EFGHIJKLMNOPQRSTUVWXYZ

This page was generated on 2021-10-16 15:51:46 -0400 (Sat, 16 Oct 2021).

INSTALL results for dorothea on nebbiolo2

To the developers/maintainers of the dorothea package:
Make sure to use the following settings in order to reproduce any error or warning you see on this page.

raw results

Package 99/404HostnameOS / ArchINSTALLBUILDCHECK
dorothea 1.5.2  (landing page)
Daniel Dimitrov
Snapshot Date: 2021-10-16 09:30:02 -0400 (Sat, 16 Oct 2021)
git_url: https://git.bioconductor.org/packages/dorothea
git_branch: master
git_last_commit: f9fd91c
git_last_commit_date: 2021-10-13 16:12:09 -0400 (Wed, 13 Oct 2021)
nebbiolo2Linux (Ubuntu 20.04.2 LTS) / x86_64  OK    OK    OK  UNNEEDED, same version is already published

Summary

Package: dorothea
Version: 1.5.2
Command: /home/biocbuild/bbs-3.14-bioc/R/bin/R CMD INSTALL dorothea
StartedAt: 2021-10-16 11:02:37 -0400 (Sat, 16 Oct 2021)
EndedAt: 2021-10-16 11:03:10 -0400 (Sat, 16 Oct 2021)
EllapsedTime: 33.5 seconds
RetCode: 0
Status:   OK  

Command output

##############################################################################
##############################################################################
###
### Running command:
###
###   /home/biocbuild/bbs-3.14-bioc/R/bin/R CMD INSTALL dorothea
###
##############################################################################
##############################################################################


* installing to library ‘/home/biocbuild/bbs-3.14-bioc/R/library’
* installing *source* package ‘dorothea’ ...
** using staged installation
** R
** data
*** moving datasets to lazyload DB
** inst
** byte-compile and prepare package for lazy loading
** help
*** installing help indices
*** copying figures
** building package indices
** installing vignettes
** testing if installed package can be loaded from temporary location
** testing if installed package can be loaded from final location
** testing if installed package keeps a record of temporary installation path
* DONE (dorothea)