Back to Build/check report for BioC 3.14 experimental data
ABC[D]EFGHIJKLMNOPQRSTUVWXYZ

This page was generated on 2021-10-16 15:51:46 -0400 (Sat, 16 Oct 2021).

BUILD results for diggitdata on nebbiolo2

To the developers/maintainers of the diggitdata package:
Make sure to use the following settings in order to reproduce any error or warning you see on this page.

raw results

Package 94/404HostnameOS / ArchINSTALLBUILDCHECK
diggitdata 1.25.0  (landing page)
Mariano Javier Alvarez
Snapshot Date: 2021-10-16 09:30:02 -0400 (Sat, 16 Oct 2021)
git_url: https://git.bioconductor.org/packages/diggitdata
git_branch: master
git_last_commit: 80405b2
git_last_commit_date: 2021-05-19 11:49:55 -0400 (Wed, 19 May 2021)
nebbiolo2Linux (Ubuntu 20.04.2 LTS) / x86_64  OK    OK    OK  UNNEEDED, same version is already published

Summary

Package: diggitdata
Version: 1.25.0
Command: /home/biocbuild/bbs-3.14-bioc/R/bin/R CMD build --keep-empty-dirs --no-resave-data diggitdata
StartedAt: 2021-10-16 11:15:55 -0400 (Sat, 16 Oct 2021)
EndedAt: 2021-10-16 11:16:06 -0400 (Sat, 16 Oct 2021)
EllapsedTime: 10.9 seconds
RetCode: 0
Status:   OK  
PackageFile: diggitdata_1.25.0.tar.gz
PackageFileSize: 47.32 MiB

Command output

##############################################################################
##############################################################################
###
### Running command:
###
###   /home/biocbuild/bbs-3.14-bioc/R/bin/R CMD build --keep-empty-dirs --no-resave-data diggitdata
###
##############################################################################
##############################################################################


* checking for file ‘diggitdata/DESCRIPTION’ ... OK
* preparing ‘diggitdata’:
* checking DESCRIPTION meta-information ... OK
* installing the package to build vignettes
* creating vignettes ... OK
* checking for LF line-endings in source and make files and shell scripts
* checking for empty or unneeded directories
* looking to see if a ‘data/datalist’ file should be added
* building ‘diggitdata_1.25.0.tar.gz’