Index of /checkResults/devel/data-experiment-LATEST/diffloopdata/raw-results/nebbiolo2

[ICO]NameLast modifiedSizeDescription

[DIR]Parent Directory  -  
[TXT]buildsrc-out.txt20-Jan-2022 22:37 877  
[   ]buildsrc-summary.dcf20-Jan-2022 22:37 443  
[TXT]checksrc-out.txt20-Jan-2022 22:37 2.5K 
[   ]checksrc-summary.dcf20-Jan-2022 22:37 465  
[TXT]install-out.txt20-Jan-2022 22:37 1.0K 
[   ]install-summary.dcf20-Jan-2022 22:37 279