Back to Build/check report for BioC 3.14 experimental data
ABC[D]EFGHIJKLMNOPQRSTUVWXYZ

This page was generated on 2021-10-21 15:52:03 -0400 (Thu, 21 Oct 2021).

BUILD results for diffloopdata on nebbiolo2

To the developers/maintainers of the diffloopdata package:
Make sure to use the following settings in order to reproduce any error or warning you see on this page.

raw results

Package 93/406HostnameOS / ArchINSTALLBUILDCHECK
diffloopdata 1.21.0  (landing page)
Caleb Lareau
Snapshot Date: 2021-10-21 09:30:01 -0400 (Thu, 21 Oct 2021)
git_url: https://git.bioconductor.org/packages/diffloopdata
git_branch: master
git_last_commit: 8f3403e
git_last_commit_date: 2021-05-19 11:57:10 -0400 (Wed, 19 May 2021)
nebbiolo2Linux (Ubuntu 20.04.2 LTS) / x86_64  OK    OK    OK  UNNEEDED, same version is already published

Summary

Package: diffloopdata
Version: 1.21.0
Command: /home/biocbuild/bbs-3.14-bioc/R/bin/R CMD build --keep-empty-dirs --no-resave-data diffloopdata
StartedAt: 2021-10-21 11:16:30 -0400 (Thu, 21 Oct 2021)
EndedAt: 2021-10-21 11:16:38 -0400 (Thu, 21 Oct 2021)
EllapsedTime: 8.4 seconds
RetCode: 0
Status:   OK  
PackageFile: diffloopdata_1.21.0.tar.gz
PackageFileSize: 11.08 MiB

Command output

##############################################################################
##############################################################################
###
### Running command:
###
###   /home/biocbuild/bbs-3.14-bioc/R/bin/R CMD build --keep-empty-dirs --no-resave-data diffloopdata
###
##############################################################################
##############################################################################


* checking for file ‘diffloopdata/DESCRIPTION’ ... OK
* preparing ‘diffloopdata’:
* checking DESCRIPTION meta-information ... OK
* installing the package to build vignettes
* creating vignettes ... OK
* checking for LF line-endings in source and make files and shell scripts
* checking for empty or unneeded directories
Omitted ‘LazyData’ from DESCRIPTION
* building ‘diffloopdata_1.21.0.tar.gz’