Index of /checkResults/devel/data-experiment-LATEST/derfinderData/raw-results

[ICO]NameLast modifiedSizeDescription

[DIR]Parent Directory  -  
[   ]info.dcf26-Nov-2021 08:35 289  
[DIR]nebbiolo2/26-Nov-2021 08:35 -