Back to Build/check report for BioC 3.14 experimental data
ABC[D]EFGHIJKLMNOPQRSTUVWXYZ

This page was generated on 2021-10-16 15:51:46 -0400 (Sat, 16 Oct 2021).

INSTALL results for derfinderData on nebbiolo2

To the developers/maintainers of the derfinderData package:
Make sure to use the following settings in order to reproduce any error or warning you see on this page.

raw results

Package 90/404HostnameOS / ArchINSTALLBUILDCHECK
derfinderData 2.11.1  (landing page)
Leonardo Collado-Torres
Snapshot Date: 2021-10-16 09:30:02 -0400 (Sat, 16 Oct 2021)
git_url: https://git.bioconductor.org/packages/derfinderData
git_branch: master
git_last_commit: e46a0da
git_last_commit_date: 2021-08-09 20:15:35 -0400 (Mon, 09 Aug 2021)
nebbiolo2Linux (Ubuntu 20.04.2 LTS) / x86_64  OK    OK    OK  UNNEEDED, same version is already published

Summary

Package: derfinderData
Version: 2.11.1
Command: /home/biocbuild/bbs-3.14-bioc/R/bin/R CMD INSTALL derfinderData
StartedAt: 2021-10-16 11:00:35 -0400 (Sat, 16 Oct 2021)
EndedAt: 2021-10-16 11:00:36 -0400 (Sat, 16 Oct 2021)
EllapsedTime: 1.3 seconds
RetCode: 0
Status:   OK  

Command output

##############################################################################
##############################################################################
###
### Running command:
###
###   /home/biocbuild/bbs-3.14-bioc/R/bin/R CMD INSTALL derfinderData
###
##############################################################################
##############################################################################


* installing to library ‘/home/biocbuild/bbs-3.14-bioc/R/library’
* installing *source* package ‘derfinderData’ ...
** using staged installation
** R
** data
*** moving datasets to lazyload DB
** inst
** byte-compile and prepare package for lazy loading
** help
*** installing help indices
** building package indices
** installing vignettes
** testing if installed package can be loaded from temporary location
** testing if installed package can be loaded from final location
** testing if installed package keeps a record of temporary installation path
* DONE (derfinderData)