Back to Build/check report for BioC 3.14 experimental data
ABC[D]EFGHIJKLMNOPQRSTUVWXYZ

This page was generated on 2021-10-19 15:52:17 -0400 (Tue, 19 Oct 2021).

INSTALL results for depmap on nebbiolo2

To the developers/maintainers of the depmap package:
Make sure to use the following settings in order to reproduce any error or warning you see on this page.

raw results

Package 89/404HostnameOS / ArchINSTALLBUILDCHECK
depmap 1.7.1  (landing page)
Laurent Gatto
Snapshot Date: 2021-10-19 09:30:02 -0400 (Tue, 19 Oct 2021)
git_url: https://git.bioconductor.org/packages/depmap
git_branch: master
git_last_commit: c35dc77
git_last_commit_date: 2021-09-03 04:10:17 -0400 (Fri, 03 Sep 2021)
nebbiolo2Linux (Ubuntu 20.04.2 LTS) / x86_64  OK    OK    OK  UNNEEDED, same version is already published

Summary

Package: depmap
Version: 1.7.1
Command: /home/biocbuild/bbs-3.14-bioc/R/bin/R CMD INSTALL depmap
StartedAt: 2021-10-19 11:03:41 -0400 (Tue, 19 Oct 2021)
EndedAt: 2021-10-19 11:03:59 -0400 (Tue, 19 Oct 2021)
EllapsedTime: 18.2 seconds
RetCode: 0
Status:   OK  

Command output

##############################################################################
##############################################################################
###
### Running command:
###
###   /home/biocbuild/bbs-3.14-bioc/R/bin/R CMD INSTALL depmap
###
##############################################################################
##############################################################################


* installing to library ‘/home/biocbuild/bbs-3.14-bioc/R/library’
* installing *source* package ‘depmap’ ...
** using staged installation
** R
** inst
** byte-compile and prepare package for lazy loading
** help
*** installing help indices
** building package indices
** installing vignettes
** testing if installed package can be loaded from temporary location
snapshotDate(): 2021-10-18
** testing if installed package can be loaded from final location
snapshotDate(): 2021-10-18
** testing if installed package keeps a record of temporary installation path
* DONE (depmap)