Back to Build/check report for BioC 3.14 experimental data
AB[C]DEFGHIJKLMNOPQRSTUVWXYZ

This page was generated on 2021-10-16 15:51:46 -0400 (Sat, 16 Oct 2021).

BUILD results for curatedTCGAData on nebbiolo2

To the developers/maintainers of the curatedTCGAData package:
Make sure to use the following settings in order to reproduce any error or warning you see on this page.

raw results

Package 86/404HostnameOS / ArchINSTALLBUILDCHECK
curatedTCGAData 1.15.1  (landing page)
Marcel Ramos
Snapshot Date: 2021-10-16 09:30:02 -0400 (Sat, 16 Oct 2021)
git_url: https://git.bioconductor.org/packages/curatedTCGAData
git_branch: master
git_last_commit: 7d31c01
git_last_commit_date: 2021-05-24 09:49:48 -0400 (Mon, 24 May 2021)
nebbiolo2Linux (Ubuntu 20.04.2 LTS) / x86_64  OK    OK    OK  UNNEEDED, same version is already published

Summary

Package: curatedTCGAData
Version: 1.15.1
Command: /home/biocbuild/bbs-3.14-bioc/R/bin/R CMD build --keep-empty-dirs --no-resave-data curatedTCGAData
StartedAt: 2021-10-16 11:14:33 -0400 (Sat, 16 Oct 2021)
EndedAt: 2021-10-16 11:15:46 -0400 (Sat, 16 Oct 2021)
EllapsedTime: 73.3 seconds
RetCode: 0
Status:   OK  
PackageFile: curatedTCGAData_1.15.1.tar.gz
PackageFileSize: 359.9 KiB

Command output

##############################################################################
##############################################################################
###
### Running command:
###
###   /home/biocbuild/bbs-3.14-bioc/R/bin/R CMD build --keep-empty-dirs --no-resave-data curatedTCGAData
###
##############################################################################
##############################################################################


* checking for file ‘curatedTCGAData/DESCRIPTION’ ... OK
* preparing ‘curatedTCGAData’:
* checking DESCRIPTION meta-information ... OK
* installing the package to build vignettes
* creating vignettes ... OK
* checking for LF line-endings in source and make files and shell scripts
* checking for empty or unneeded directories
* looking to see if a ‘data/datalist’ file should be added
* building ‘curatedTCGAData_1.15.1.tar.gz’