Back to Build/check report for BioC 3.14 experimental data
AB[C]DEFGHIJKLMNOPQRSTUVWXYZ

This page was generated on 2021-10-23 15:51:46 -0400 (Sat, 23 Oct 2021).

INSTALL results for curatedMetagenomicData on nebbiolo2

To the developers/maintainers of the curatedMetagenomicData package:
Make sure to use the following settings in order to reproduce any error or warning you see on this page.

raw results

Package 83/408HostnameOS / ArchINSTALLBUILDCHECK
curatedMetagenomicData 3.1.12  (landing page)
Lucas schiffer
Snapshot Date: 2021-10-23 09:30:01 -0400 (Sat, 23 Oct 2021)
git_url: https://git.bioconductor.org/packages/curatedMetagenomicData
git_branch: master
git_last_commit: 393920e
git_last_commit_date: 2021-10-18 11:15:33 -0400 (Mon, 18 Oct 2021)
nebbiolo2Linux (Ubuntu 20.04.2 LTS) / x86_64  OK    OK    OK  UNNEEDED, same version is already published

Summary

Package: curatedMetagenomicData
Version: 3.1.12
Command: /home/biocbuild/bbs-3.14-bioc/R/bin/R CMD INSTALL curatedMetagenomicData
StartedAt: 2021-10-23 11:06:33 -0400 (Sat, 23 Oct 2021)
EndedAt: 2021-10-23 11:07:00 -0400 (Sat, 23 Oct 2021)
EllapsedTime: 27.6 seconds
RetCode: 0
Status:   OK  

Command output

##############################################################################
##############################################################################
###
### Running command:
###
###   /home/biocbuild/bbs-3.14-bioc/R/bin/R CMD INSTALL curatedMetagenomicData
###
##############################################################################
##############################################################################


* installing to library ‘/home/biocbuild/bbs-3.14-bioc/R/library’
* installing *source* package ‘curatedMetagenomicData’ ...
** using staged installation
** R
** data
*** moving datasets to lazyload DB
** inst
** byte-compile and prepare package for lazy loading
** help
*** installing help indices
** building package indices
** installing vignettes
** testing if installed package can be loaded from temporary location
** testing if installed package can be loaded from final location
** testing if installed package keeps a record of temporary installation path
* DONE (curatedMetagenomicData)