Back to Build/check report for BioC 3.14 experimental data
AB[C]DEFGHIJKLMNOPQRSTUVWXYZ

This page was generated on 2021-10-16 15:51:45 -0400 (Sat, 16 Oct 2021).

All results for package curatedMetagenomicData

To the developers/maintainers of the curatedMetagenomicData package:
Make sure to use the following settings in order to reproduce any error or warning you see on this page.

raw results

Package 83/404HostnameOS / ArchINSTALLBUILDCHECK
curatedMetagenomicData 3.1.10  (landing page)
Lucas schiffer
Snapshot Date: 2021-10-16 09:30:02 -0400 (Sat, 16 Oct 2021)
git_url: https://git.bioconductor.org/packages/curatedMetagenomicData
git_branch: master
git_last_commit: 107e846
git_last_commit_date: 2021-10-11 12:27:11 -0400 (Mon, 11 Oct 2021)
nebbiolo2Linux (Ubuntu 20.04.2 LTS) / x86_64  OK    OK    OK  UNNEEDED, same version is already published