Back to Build/check report for BioC 3.15 experimental data
AB[C]DEFGHIJKLMNOPQRSTUVWXYZ

This page was generated on 2021-10-26 15:49:12 -0400 (Tue, 26 Oct 2021).

All results for package curatedCRCData

To the developers/maintainers of the curatedCRCData package:
Make sure to use the following settings in order to reproduce any error or warning you see on this page.

raw results

Package 80/403HostnameOS / ArchINSTALLBUILDCHECK
curatedCRCData 2.25.0  (landing page)
Princy Parsana
Snapshot Date: 2021-10-26 09:30:01 -0400 (Tue, 26 Oct 2021)
git_url: https://git.bioconductor.org/packages/curatedCRCData
git_branch: master
git_last_commit: e1955ad
git_last_commit_date: 2021-05-19 11:44:58 -0400 (Wed, 19 May 2021)
nebbiolo1Linux (Ubuntu 20.04.2 LTS) / x86_64  OK    OK    OK  NO, package depends on 'BiocGenerics' which is not available